BEGIN:VCALENDAR
VERSION:2.0
PRODID:-//Replay Storytelling - ECPv6.15.20//NONSGML v1.0//EN
CALSCALE:GREGORIAN
METHOD:PUBLISH
X-ORIGINAL-URL:https://replaystorytelling.com
X-WR-CALDESC:Events for Replay Storytelling
REFRESH-INTERVAL;VALUE=DURATION:PT1H
X-Robots-Tag:noindex
X-PUBLISHED-TTL:PT1H
BEGIN:VTIMEZONE
TZID:America/Toronto
BEGIN:DAYLIGHT
TZOFFSETFROM:-0500
TZOFFSETTO:-0400
TZNAME:EDT
DTSTART:20240310T070000
END:DAYLIGHT
BEGIN:STANDARD
TZOFFSETFROM:-0400
TZOFFSETTO:-0500
TZNAME:EST
DTSTART:20241103T060000
END:STANDARD
BEGIN:DAYLIGHT
TZOFFSETFROM:-0500
TZOFFSETTO:-0400
TZNAME:EDT
DTSTART:20250309T070000
END:DAYLIGHT
BEGIN:STANDARD
TZOFFSETFROM:-0400
TZOFFSETTO:-0500
TZNAME:EST
DTSTART:20251102T060000
END:STANDARD
BEGIN:DAYLIGHT
TZOFFSETFROM:-0500
TZOFFSETTO:-0400
TZNAME:EDT
DTSTART:20260308T070000
END:DAYLIGHT
BEGIN:STANDARD
TZOFFSETFROM:-0400
TZOFFSETTO:-0500
TZNAME:EST
DTSTART:20261101T060000
END:STANDARD
END:VTIMEZONE
BEGIN:VEVENT
DTSTART;TZID=America/Toronto:20251005T193000
DTEND;TZID=America/Toronto:20251005T213000
DTSTAMP:20260419T155825
CREATED:20250923T193502Z
LAST-MODIFIED:20260109T054831Z
UID:2829-1759692600-1759699800@replaystorytelling.com
SUMMARY:Musical Musings
DESCRIPTION:Join us for true stories behind the song\, an evening where each song has a backstory. This electrifying storytelling experience invites musicians to take you on an intimate journey through the stories behind their songs. \n\n\n\nFrom heartwarming to hilarious\, each tale uncovers the profound connections between their music and themselves\, leaving you moved\, inspired\, and yearning to learn more! \n\n\n\nFeaturing stories from Ivana Popovic\, Julian Sark\, and more! \n\n\n\n🎟️ Tickets are $20 in advance\, or $25 at the door. This show will also be live-streamed! \n\n\n\n🎤 Replay Storytelling presents Musical Musings📍 Burdock Music Hall | 1184 Bloor Street West📅 Sunday\, October 5th\, 2025🕢 Doors 7pm | Show at 7:30pm
URL:https://replaystorytelling.com/events/musical-musings/
LOCATION:Burdock Music Hall\, 1184 Bloor Street West\, Toronto\, Ontario\, M6H 1N2\, Canada
CATEGORIES:Shows,Toronto
ATTACH;FMTTYPE=image/png:https://replaystorytelling.com/wp-content/uploads/2025/09/1920x1080-2025-10-05-Musical-Musings.png
END:VEVENT
BEGIN:VEVENT
DTSTART;TZID=America/Toronto:20250924T193000
DTEND;TZID=America/Toronto:20250924T210000
DTSTAMP:20260419T155825
CREATED:20250902T175718Z
LAST-MODIFIED:20260109T054831Z
UID:2821-1758742200-1758747600@replaystorytelling.com
SUMMARY:Tales from the Sea (Cancelled)
DESCRIPTION:Join us for another intimate boat cruise around Lake Ontario. We’ll enjoy the beautiful Toronto skyline\, and hear adventurous true stories from five fabulous storytellers… all aboard a pirate ship! \n\n\n\nHosted by Christel Bartelse and Replay’s Paul Aflalo—this unique show takes to the seas (Lake Ontario)\, once again\, on Wednesday\, September 24th at 7:30pm sharp! \n\n\n\nFeaturing stories from Anto Chan\, Joanne O’Sullivan\, and Chantal Lim! \n\n\n\n🎟️ Early-bird tickets are $30 until September 10th or while quantities last! (Tickets are $35 as of September 11th!) \n\n\n\nONLY 31 TICKETS AVAILABLE!🏴‍☠️ Tales from the Sea (Lake Ontario)📅 Wednesday\, September 24th\, 2025🕢 Boarding begins at 7:15pm | We set sail at 7:30pm sharp! \n\n\n\n* All ticket sales are final\, no refunds will be issued.* Please note that there is not a washroom on board the ship\, but there are many nearby!
URL:https://replaystorytelling.com/events/tales-from-the-sea-lake-ontario/
LOCATION:A Pirate Ship\, 319 Queens Quay West\, Toronto\, Ontario\, M5V 1A2\, Canada
CATEGORIES:Shows,Toronto
ATTACH;FMTTYPE=image/png:https://replaystorytelling.com/wp-content/uploads/2025/09/1920-x-1080-2025-09-24-Tales-from-the-Sea-Cancelled.png
END:VEVENT
BEGIN:VEVENT
DTSTART;TZID=America/Toronto:20250917T193000
DTEND;TZID=America/Toronto:20250917T213000
DTSTAMP:20260419T155825
CREATED:20250901T150341Z
LAST-MODIFIED:20260109T054831Z
UID:2788-1758137400-1758144600@replaystorytelling.com
SUMMARY:Underdogs
DESCRIPTION:Replay Storytelling kicks of their 10th season with Underdogs—stories of outcasts\, long shots\, and last laughs! \n\n\n\n\n\n\n\nReplay Storytelling returns for their 10th season of all-true storytelling at Burdock Music Hall! \n\n\n\nStep into the ring with the misfits\, the outsiders\, and the underestimated\, as they share true stories of when they were the outcasts\, with long shots and last laughs. \n\n\n\nCome cheer for the stories that prove being underestimated can be unforgettable! \n\n\n\n🎟️ Tickets $20 in advance\, $25 at the door. This show will also be live streamed. \n\n\n\n💪 Replay Storytelling presents Underdogs📍 Burdock Music Hall | 1184 Bloor Street West📅 Wednesday\, September 17th\, 2025🕢 Doors 7pm | Show at 7:30pm
URL:https://replaystorytelling.com/events/underdogs/
LOCATION:Burdock Music Hall\, 1184 Bloor Street West\, Toronto\, Ontario\, M6H 1N2\, Canada
CATEGORIES:Shows,Toronto
ATTACH;FMTTYPE=image/png:https://replaystorytelling.com/wp-content/uploads/2025/09/1920x1080-2025-09-17-Underdogs.png
END:VEVENT
END:VCALENDAR